BEGIN:VCALENDAR
VERSION:2.0
PRODID:-//ChamberMaster//Event Calendar 2.0//EN
METHOD:PUBLISH
X-PUBLISHED-TTL:P1H
REFRESH-INTERVAL:P1H
CALSCALE:GREGORIAN
BEGIN:VTIMEZONE
TZID:America/New_York
BEGIN:DAYLIGHT
RRULE:FREQ=YEARLY;BYMONTH=3;BYDAY=2SU
DTSTART:20070101T000000
TZOFFSETFROM:-0500
TZOFFSETTO:-0400
TZNAME:Eastern Daylight Time
END:DAYLIGHT
BEGIN:STANDARD
RRULE:FREQ=YEARLY;BYMONTH=11;BYDAY=1SU
DTSTART:20070101T000000
TZOFFSETFROM:-0400
TZOFFSETTO:-0500
TZNAME:Eastern Standard Time
END:STANDARD
END:VTIMEZONE
BEGIN:VEVENT
DTSTART;TZID=America/New_York:20260505T113000
DTEND;TZID=America/New_York:20260505T120000
X-MICROSOFT-CDO-ALLDAYEVENT:FALSE
SUMMARY:RPAC May Monthly Meeting
DESCRIPTION:For this meeting\, bring your RPAC game face on!  We will be having a phone bank and calling members to see if we can get them to donate their $20 fair share or up their current investment to the next level.  We will be ordering pizza for lunch. Please respond if you are able to make this meeting and if you have any preference to what is on or not on your pizza.  Look forward to a productive and fun meeting!
X-ALT-DESC;FMTTYPE=text/html:<!DOCTYPE html><html><head><title></title></head><body aria-disabled="false"><p>For this meeting\, bring your RPAC game face on! &nbsp\;We will be having a phone bank and calling members to see if we can get them to donate their $20 fair share or up their current investment to the next level. &nbsp\;We will be ordering pizza for lunch.&nbsp\;</p><p>Please respond if you are able to make this meeting and if you have any preference to what is on or not on your pizza. &nbsp\;</p><p>Look forward to a productive and fun meeting!</p></body></html>
LOCATION:1750 NW 80th Blvd Gainesville FL 32606
UID:e.2182.1450062
SEQUENCE:3
DTSTAMP:20260425T185253Z
URL:https://members.gacar.com/events/Details/rpac-may-monthly-meeting-1595632?sourceTypeId=Hub
END:VEVENT
END:VCALENDAR
