BEGIN:VCALENDAR
VERSION:2.0
PRODID:-//ChamberMaster//Event Calendar 2.0//EN
METHOD:PUBLISH
X-PUBLISHED-TTL:P1H
REFRESH-INTERVAL:P1H
CALSCALE:GREGORIAN
BEGIN:VTIMEZONE
TZID:America/New_York
BEGIN:DAYLIGHT
RRULE:FREQ=YEARLY;BYMONTH=3;BYDAY=2SU
DTSTART:20070101T000000
TZOFFSETFROM:-0500
TZOFFSETTO:-0400
TZNAME:Eastern Daylight Time
END:DAYLIGHT
BEGIN:STANDARD
RRULE:FREQ=YEARLY;BYMONTH=11;BYDAY=1SU
DTSTART:20070101T000000
TZOFFSETFROM:-0400
TZOFFSETTO:-0500
TZNAME:Eastern Standard Time
END:STANDARD
END:VTIMEZONE
BEGIN:VEVENT
DTSTART;TZID=America/New_York:20260429T140000
DTEND;TZID=America/New_York:20260429T150000
X-MICROSOFT-CDO-ALLDAYEVENT:FALSE
SUMMARY:Giving Circle Site Visit
DESCRIPTION:We are excited to invite you to a special site visit next Wednesday\, April 29th\, at 2pm to witness the tangible results of your generosity.\n\nThanks to your contributions\, Rebuilding Together of North Central Florida has successfully completed a home project right here in Gainesville. This visit is a wonderful opportunity to see the home firsthand\, meet the team behind the project\, and celebrate the stabilization of our local neighborhoods made possible by your support.\nTo be respectful to the homeowners\, we will not publicly advertise the address.  Once you RSVP\, we will send you the location. We look forward to sharing this milestone with you!
X-ALT-DESC;FMTTYPE=text/html:We are excited to invite you to a special site visit next Wednesday\, April 29th\, at 2pm to witness the tangible results of your generosity.\n\nThanks to your contributions\, Rebuilding Together of North Central Florida has successfully completed a home project right here in Gainesville. This visit is a wonderful opportunity to see the home firsthand\, meet the team behind the project\, and celebrate the stabilization of our local neighborhoods made possible by your support.\nTo be respectful to the homeowners\, we will not publicly advertise the address.  Once you RSVP\, we will send you the location. We look forward to sharing this milestone with you!
LOCATION:
UID:e.2182.1450950
SEQUENCE:3
DTSTAMP:20260425T183820Z
URL:https://members.gacar.com/events/Details/giving-circle-site-visit-1718593?sourceTypeId=Hub
END:VEVENT
END:VCALENDAR
