BEGIN:VCALENDAR
VERSION:2.0
PRODID:-//ChamberMaster//Event Calendar 2.0//EN
METHOD:PUBLISH
X-PUBLISHED-TTL:P1H
REFRESH-INTERVAL:P1H
CALSCALE:GREGORIAN
BEGIN:VTIMEZONE
TZID:America/New_York
BEGIN:DAYLIGHT
RRULE:FREQ=YEARLY;BYMONTH=3;BYDAY=2SU
DTSTART:20070101T000000
TZOFFSETFROM:-0500
TZOFFSETTO:-0400
TZNAME:Eastern Daylight Time
END:DAYLIGHT
BEGIN:STANDARD
RRULE:FREQ=YEARLY;BYMONTH=11;BYDAY=1SU
DTSTART:20070101T000000
TZOFFSETFROM:-0400
TZOFFSETTO:-0500
TZNAME:Eastern Standard Time
END:STANDARD
END:VTIMEZONE
BEGIN:VEVENT
DTSTART;TZID=America/New_York:20260428T110000
DTEND;TZID=America/New_York:20260428T120000
X-MICROSOFT-CDO-ALLDAYEVENT:FALSE
SUMMARY:Property Management April Monthly Meeting
DESCRIPTION:Plans and organizes educational programs and workshops to benefit property managers. Network with other property managers to pick up tips and discover new property management opportunities for GACAR members. 2026 Chair is Rebecca Johnson 352-213-6410 or info@knrpm.com and Vice Chair is Aymee Cepeda 352-225-1163 or enablepropertiesgnv@gmail.com. Feel free to contact any of us for meeting topic ideas or speakers you would like to see at the monthly meetings. Meetings are held on the last Tuesday of each month at 11 am.Topic: Property Management CouncilTime: This is a recurring meeting Meet anytimeJoin Zoom Meetinghttps://us02web.zoom.us/j/82331431614?pwd=hUFlRPznW8FLwLbFQRVtUzQyixo1pG.1
X-ALT-DESC;FMTTYPE=text/html:<!DOCTYPE html><html><head><title></title></head><body aria-disabled="false"><p>Plans and organizes educational programs and workshops to benefit property managers. Network with other property managers to pick up tips and discover new property management opportunities for GACAR members. 2026 Chair is Rebecca Johnson 352-213-6410 or info@knrpm.com and Vice Chair is Aymee Cepeda 352-225-1163 or enablepropertiesgnv@gmail.com. Feel free to contact any of us for meeting topic ideas or speakers you would like to see at the monthly meetings. Meetings are held on the last Tuesday of each month at 11 am.</p><p>Topic: Property Management Council</p><p>Time: This is a recurring meeting Meet anytime</p><p>Join Zoom Meeting</p><p><a fr-original-style="" href="https://us02web.zoom.us/j/82331431614?pwd=hUFlRPznW8FLwLbFQRVtUzQyixo1pG.1" style="user-select: auto\;">https://us02web.zoom.us/j/82331431614?pwd=hUFlRPznW8FLwLbFQRVtUzQyixo1pG.1</a></p><p><br></p></body></html>
LOCATION:1750 NW 80th Blvd Gainesville FL 32606
UID:e.2182.1450992
SEQUENCE:3
DTSTAMP:20260425T201125Z
URL:https://members.gacar.com/events/Details/property-management-april-monthly-meeting-1595472?sourceTypeId=Hub
END:VEVENT
END:VCALENDAR
