BEGIN:VCALENDAR
VERSION:2.0
PRODID:-//ChamberMaster//Event Calendar 2.0//EN
METHOD:PUBLISH
X-PUBLISHED-TTL:P1H
REFRESH-INTERVAL:P1H
CALSCALE:GREGORIAN
BEGIN:VTIMEZONE
TZID:America/New_York
BEGIN:DAYLIGHT
RRULE:FREQ=YEARLY;BYMONTH=3;BYDAY=2SU
DTSTART:20070101T000000
TZOFFSETFROM:-0500
TZOFFSETTO:-0400
TZNAME:Eastern Daylight Time
END:DAYLIGHT
BEGIN:STANDARD
RRULE:FREQ=YEARLY;BYMONTH=11;BYDAY=1SU
DTSTART:20070101T000000
TZOFFSETFROM:-0400
TZOFFSETTO:-0500
TZNAME:Eastern Standard Time
END:STANDARD
END:VTIMEZONE
BEGIN:VEVENT
DTSTART;TZID=America/New_York:20260512T100000
DTEND;TZID=America/New_York:20260512T113000
X-MICROSOFT-CDO-ALLDAYEVENT:FALSE
SUMMARY:A Community Conversation with Gainesville Housing Authority
DESCRIPTION:Join the Gainesville Housing Authority for an important community conversation about proposed HUD rule changes and how they may impact residents\, families and our community.  HUD proposed policy changes directly impact housing access\, affordability\, and community resources.  Your voice can help shape decisions that affect our local community. If you have questions about this\, you can email the Gainesville Housing Authority at admina@gwha.org.
X-ALT-DESC;FMTTYPE=text/html:Join the Gainesville Housing Authority for an important community conversation about proposed HUD rule changes and how they may impact residents\, families and our community.  HUD proposed policy changes directly impact housing access\, affordability\, and community resources.  Your voice can help shape decisions that affect our local community. If you have questions about this\, you can email the Gainesville Housing Authority at admina@gwha.org.
LOCATION:1750 NW 80th Blvd Gainesville 32606
UID:e.2182.1449844
SEQUENCE:3
DTSTAMP:20260425T200320Z
URL:https://members.gacar.com/events/Details/a-community-conversation-with-gainesville-housing-authority-1717348?sourceTypeId=Hub
END:VEVENT
END:VCALENDAR
